BEGIN:VCALENDAR
VERSION:2.0
PRODID:icalendar-ruby
CALSCALE:GREGORIAN
METHOD:PUBLISH
BEGIN:VEVENT
DTSTAMP:20260423T102654Z
UID:5-1203921@gladeviewbaptist.com
DTSTART:20261101T163000Z
DTEND:20261101T180000Z
CLASS:PUBLIC
CREATED:20260422T214312
DESCRIPTION:Sunday Worship
LAST-MODIFIED:20260422T214312
LOCATION:
SUMMARY:Sunday Worship
URL;VALUE=URI:https://gladeviewbaptist.com/events/sunday-worship/2026-11-01
END:VEVENT
END:VCALENDAR
