BEGIN:VCALENDAR
VERSION:2.0
PRODID:icalendar-ruby
CALSCALE:GREGORIAN
METHOD:PUBLISH
BEGIN:VEVENT
DTSTAMP:20260421T070030Z
UID:5-1198959@gladeviewbaptist.com
DTSTART:20261018T153000Z
DTEND:20261018T170000Z
CLASS:PUBLIC
CREATED:20260420T195200
DESCRIPTION:Sunday Worship
LAST-MODIFIED:20260420T195200
LOCATION:
SUMMARY:Sunday Worship
URL;VALUE=URI:https://gladeviewbaptist.com/events/sunday-worship/2026-10-18
END:VEVENT
END:VCALENDAR
