BEGIN:VCALENDAR
VERSION:2.0
PRODID:icalendar-ruby
CALSCALE:GREGORIAN
METHOD:PUBLISH
BEGIN:VEVENT
DTSTAMP:20260421T051225Z
UID:5-1198958@gladeviewbaptist.com
DTSTART:20261011T153000Z
DTEND:20261011T170000Z
CLASS:PUBLIC
CREATED:20260420T195200
DESCRIPTION:Sunday Worship
LAST-MODIFIED:20260420T195200
LOCATION:
SUMMARY:Sunday Worship
URL;VALUE=URI:https://gladeviewbaptist.com/events/sunday-worship/2026-10-11
END:VEVENT
END:VCALENDAR
