BEGIN:VCALENDAR
VERSION:2.0
PRODID:icalendar-ruby
CALSCALE:GREGORIAN
METHOD:PUBLISH
BEGIN:VEVENT
DTSTAMP:20260421T015254Z
UID:9-1198992@gladeviewbaptist.com
DTSTART:20261007T140000Z
DTEND:20261007T150000Z
CLASS:PUBLIC
CREATED:20260420T195200
DESCRIPTION:
LAST-MODIFIED:20260420T195200
LOCATION:
SUMMARY:Sunday School 
URL;VALUE=URI:https://gladeviewbaptist.com/events/sunday-school/2026-10-07
END:VEVENT
END:VCALENDAR
