BEGIN:VCALENDAR
VERSION:2.0
PRODID:icalendar-ruby
CALSCALE:GREGORIAN
METHOD:PUBLISH
BEGIN:VEVENT
DTSTAMP:20260420T222533Z
UID:9-1198577@gladeviewbaptist.com
DTSTART:20260923T140000Z
DTEND:20260923T150000Z
CLASS:PUBLIC
CREATED:20260420T171707
DESCRIPTION:
LAST-MODIFIED:20260420T171707
LOCATION:
SUMMARY:Sunday School 
URL;VALUE=URI:https://gladeviewbaptist.com/events/sunday-school/2026-09-23
END:VEVENT
END:VCALENDAR
