BEGIN:VCALENDAR
VERSION:2.0
PRODID:icalendar-ruby
CALSCALE:GREGORIAN
METHOD:PUBLISH
BEGIN:VEVENT
DTSTAMP:20260420T204703Z
UID:9-1198163@gladeviewbaptist.com
DTSTART:20260916T140000Z
DTEND:20260916T150000Z
CLASS:PUBLIC
CREATED:20260420T144110
DESCRIPTION:
LAST-MODIFIED:20260420T144110
LOCATION:
SUMMARY:Sunday School 
URL;VALUE=URI:https://gladeviewbaptist.com/events/sunday-school/2026-09-16
END:VEVENT
END:VCALENDAR
