BEGIN:VCALENDAR
VERSION:2.0
PRODID:icalendar-ruby
CALSCALE:GREGORIAN
METHOD:PUBLISH
BEGIN:VEVENT
DTSTAMP:20260420T143447Z
UID:9-1197333@gladeviewbaptist.com
DTSTART:20260819T140000Z
DTEND:20260819T150000Z
CLASS:PUBLIC
CREATED:20260420T093222
DESCRIPTION:
LAST-MODIFIED:20260420T093222
LOCATION:
SUMMARY:Sunday School 
URL;VALUE=URI:https://gladeviewbaptist.com/events/sunday-school/2026-08-19
END:VEVENT
END:VCALENDAR
