BEGIN:VCALENDAR
VERSION:2.0
PRODID:icalendar-ruby
CALSCALE:GREGORIAN
METHOD:PUBLISH
BEGIN:VEVENT
DTSTAMP:20260420T125302Z
UID:9-1196919@gladeviewbaptist.com
DTSTART:20260812T140000Z
DTEND:20260812T150000Z
CLASS:PUBLIC
CREATED:20260420T065718
DESCRIPTION:
LAST-MODIFIED:20260420T065718
LOCATION:
SUMMARY:Sunday School 
URL;VALUE=URI:https://gladeviewbaptist.com/events/sunday-school/2026-08-12
END:VEVENT
END:VCALENDAR
