BEGIN:VCALENDAR
VERSION:2.0
PRODID:icalendar-ruby
CALSCALE:GREGORIAN
METHOD:PUBLISH
BEGIN:VEVENT
DTSTAMP:20260420T091928Z
UID:9-1196504@gladeviewbaptist.com
DTSTART:20260729T140000Z
DTEND:20260729T150000Z
CLASS:PUBLIC
CREATED:20260420T021115
DESCRIPTION:
LAST-MODIFIED:20260420T021115
LOCATION:
SUMMARY:Sunday School 
URL;VALUE=URI:https://gladeviewbaptist.com/events/sunday-school/2026-07-29
END:VEVENT
END:VCALENDAR
