BEGIN:VCALENDAR
VERSION:2.0
PRODID:icalendar-ruby
CALSCALE:GREGORIAN
METHOD:PUBLISH
BEGIN:VEVENT
DTSTAMP:20260420T041525Z
UID:9-1196088@gladeviewbaptist.com
DTSTART:20260708T140000Z
DTEND:20260708T150000Z
CLASS:PUBLIC
CREATED:20260419T223404
DESCRIPTION:
LAST-MODIFIED:20260419T223404
LOCATION:
SUMMARY:Sunday School 
URL;VALUE=URI:https://gladeviewbaptist.com/events/sunday-school/2026-07-08
END:VEVENT
END:VCALENDAR
