BEGIN:VCALENDAR
VERSION:2.0
PRODID:icalendar-ruby
CALSCALE:GREGORIAN
METHOD:PUBLISH
BEGIN:VEVENT
DTSTAMP:20260420T005710Z
UID:9-1195673@gladeviewbaptist.com
DTSTART:20260624T140000Z
DTEND:20260624T150000Z
CLASS:PUBLIC
CREATED:20260419T185616
DESCRIPTION:
LAST-MODIFIED:20260419T185616
LOCATION:
SUMMARY:Sunday School 
URL;VALUE=URI:https://gladeviewbaptist.com/events/sunday-school/2026-06-24
END:VEVENT
END:VCALENDAR
