BEGIN:VCALENDAR
VERSION:2.0
PRODID:icalendar-ruby
CALSCALE:GREGORIAN
METHOD:PUBLISH
BEGIN:VEVENT
DTSTAMP:20260419T220448Z
UID:9-1195258@gladeviewbaptist.com
DTSTART:20260610T140000Z
DTEND:20260610T150000Z
CLASS:PUBLIC
CREATED:20260419T151348
DESCRIPTION:
LAST-MODIFIED:20260419T151348
LOCATION:
SUMMARY:Sunday School 
URL;VALUE=URI:https://gladeviewbaptist.com/events/sunday-school/2026-06-10
END:VEVENT
END:VCALENDAR
