BEGIN:VCALENDAR
VERSION:2.0
PRODID:icalendar-ruby
CALSCALE:GREGORIAN
METHOD:PUBLISH
BEGIN:VEVENT
DTSTAMP:20260419T201412Z
UID:9-1195257@gladeviewbaptist.com
DTSTART:20260603T140000Z
DTEND:20260603T150000Z
CLASS:PUBLIC
CREATED:20260419T151348
DESCRIPTION:
LAST-MODIFIED:20260419T151348
LOCATION:
SUMMARY:Sunday School 
URL;VALUE=URI:https://gladeviewbaptist.com/events/sunday-school/2026-06-03
END:VEVENT
END:VCALENDAR
