BEGIN:VCALENDAR
VERSION:2.0
PRODID:icalendar-ruby
CALSCALE:GREGORIAN
METHOD:PUBLISH
BEGIN:VEVENT
DTSTAMP:20260419T184057Z
UID:9-1194843@gladeviewbaptist.com
DTSTART:20260527T140000Z
DTEND:20260527T150000Z
CLASS:PUBLIC
CREATED:20260419T113125
DESCRIPTION:
LAST-MODIFIED:20260419T113125
LOCATION:
SUMMARY:Sunday School 
URL;VALUE=URI:https://gladeviewbaptist.com/events/sunday-school/2026-05-27
END:VEVENT
END:VCALENDAR
