BEGIN:VCALENDAR
VERSION:2.0
PRODID:icalendar-ruby
CALSCALE:GREGORIAN
METHOD:PUBLISH
BEGIN:VEVENT
DTSTAMP:20260419T153202Z
UID:9-1194429@gladeviewbaptist.com
DTSTART:20260513T140000Z
DTEND:20260513T150000Z
CLASS:PUBLIC
CREATED:20260419T074929
DESCRIPTION:
LAST-MODIFIED:20260419T074929
LOCATION:
SUMMARY:Sunday School 
URL;VALUE=URI:https://gladeviewbaptist.com/events/sunday-school/2026-05-13
END:VEVENT
END:VCALENDAR
