BEGIN:VCALENDAR
VERSION:2.0
PRODID:icalendar-ruby
CALSCALE:GREGORIAN
METHOD:PUBLISH
BEGIN:VEVENT
DTSTAMP:20260419T115934Z
UID:9-1194014@gladeviewbaptist.com
DTSTART:20260422T140000Z
DTEND:20260422T150000Z
CLASS:PUBLIC
CREATED:20260419T022625
DESCRIPTION:
LAST-MODIFIED:20260419T022625
LOCATION:
SUMMARY:Sunday School 
URL;VALUE=URI:https://gladeviewbaptist.com/events/sunday-school/2026-04-22
END:VEVENT
END:VCALENDAR
