BEGIN:VCALENDAR
VERSION:2.0
PRODID:icalendar-ruby
CALSCALE:GREGORIAN
METHOD:PUBLISH
BEGIN:VEVENT
DTSTAMP:20260419T122251Z
UID:14-1094812@gladeviewbaptist.com
DTSTART:20260419T220000Z
DTEND:20260420T000000Z
CLASS:PUBLIC
CREATED:20260309T123217
DESCRIPTION:\n\n\n\n\n\n\n\nFinger Foods\, Fellowship &amp\; Games Night 
 – April 19 | 5:00 PM\nJoin us at Gladeview Baptist Church on April 19 at
  5:00 PM for an evening of fun\, food\, and fellowship! We’ll gather in 
 the gym to enjoy finger foods\, spend time together\, and have some friend
 ly competition with volleyball and basketball games. It’s a great opport
 unity for all ages to connect\, laugh\, and enjoy time together as a churc
 h family. Everyone is welcome....bring a friend and come join the fun! \n\
 n\n\n\n\n\n
LAST-MODIFIED:20260309T123217
LOCATION:Gladeview Baptist Church 
SUMMARY: Fellowship & Game Night 
URL;VALUE=URI:https://gladeviewbaptist.com/events/fellowship-game-night/202
 6-04-19
ATTACH;FILENAME=9b868f5d1e5ade74ba5e12158ebcbb13.jpg;FMTTYPE=image/jpeg:htt
 ps://dq5pwpg1q8ru0.cloudfront.net/2026/03/09/17/32/17/6e06a2ab-a308-4c28-b
 df4-d6946b1ca37e/9b868f5d1e5ade74ba5e12158ebcbb13.jpg
END:VEVENT
END:VCALENDAR
